BEGIN:VCALENDAR
VERSION:2.0
PRODID:-//Bimöhlen//NONSGML kigkonsult.se iCalcreator 2.30.10//
CALSCALE:GREGORIAN
METHOD:PUBLISH
UID:e90b01c7-4a32-498a-9ff4-a5fda7a9b836
X-WR-CALNAME:iCagenda
X-WR-CALDESC:Event Management Extension for Joomla!
X-WR-RELCALID:3E26604A-50F4-4449-8B3E-E4F4932D05B5
X-WR-TIMEZONE:Europe/Berlin
BEGIN:VTIMEZONE
TZID:Europe/Berlin
BEGIN:STANDARD
TZNAME:CET
DTSTART:20251026T030000
TZOFFSETFROM:+0200
TZOFFSETTO:+0100
RDATE:20261025T030000
RDATE:20271031T030000
END:STANDARD
BEGIN:DAYLIGHT
TZNAME:CEST
DTSTART:20260329T020000
TZOFFSETFROM:+0100
TZOFFSETTO:+0200
RDATE:20270328T020000
END:DAYLIGHT
END:VTIMEZONE
BEGIN:VEVENT
UID:79d14d38-4606-48c8-be0b-74ed01811770
DTSTAMP:20260419T130148Z
CATEGORIES:Allgemein
CLASS:PUBLIC
DESCRIPTION:
DTSTART:20260613T090000Z
DTEND:20260613T120000Z
GEO:00;0
LOCATION:Bimöhlen\, Hasenmoorer Straße
ORGANIZER:
SEQUENCE:1
SUMMARY:Einweihung des Windpark Bimöhlen
TRANSP:OPAQUE
URL:https://www.bimoehlen.de/index.php/kalender/einweihung-des-windpark-bim
 oehlen/2026-06-13-11-00
END:VEVENT
END:VCALENDAR
