BEGIN:VCALENDAR
VERSION:2.0
PRODID:-//Bimöhlen//NONSGML kigkonsult.se iCalcreator 2.30.10//
CALSCALE:GREGORIAN
METHOD:PUBLISH
UID:6f181cfc-c303-4e18-9b43-e9b8c69cc61b
X-WR-CALNAME:iCagenda
X-WR-CALDESC:Event Management Extension for Joomla!
X-WR-RELCALID:3E26604A-50F4-4449-8B3E-E4F4932D05B5
X-WR-TIMEZONE:Europe/Berlin
BEGIN:VTIMEZONE
TZID:Europe/Berlin
BEGIN:STANDARD
TZNAME:CET
DTSTART:20251026T030000
TZOFFSETFROM:+0200
TZOFFSETTO:+0100
RDATE:20261025T030000
RDATE:20271031T030000
END:STANDARD
BEGIN:DAYLIGHT
TZNAME:CEST
DTSTART:20260329T020000
TZOFFSETFROM:+0100
TZOFFSETTO:+0200
RDATE:20270328T020000
END:DAYLIGHT
END:VTIMEZONE
BEGIN:VEVENT
UID:4a2bb7f4-e812-4cf9-8b3b-d4d278cd9f40
DTSTAMP:20260419T130820Z
CATEGORIES:Gemeinde
CLASS:PUBLIC
DESCRIPTION:
DTSTART:20260907T170000Z
DTEND:20260907T190000Z
GEO:00;0
LOCATION:Bürgerhaus der Gemeinde
ORGANIZER:
SEQUENCE:1
SUMMARY:Gemeindevertretersitzung
TRANSP:OPAQUE
URL:https://www.bimoehlen.de/index.php/kalender/gemeindevertretersitzung-13
 /2026-09-07-19-00
END:VEVENT
END:VCALENDAR
