BEGIN:VCALENDAR
VERSION:2.0
PRODID:-//Bimöhlen//NONSGML kigkonsult.se iCalcreator 2.30.10//
CALSCALE:GREGORIAN
METHOD:PUBLISH
UID:3aaa94f1-549c-42cc-b58b-17fe86299d4d
X-WR-CALNAME:iCagenda
X-WR-CALDESC:Event Management Extension for Joomla!
X-WR-RELCALID:3E26604A-50F4-4449-8B3E-E4F4932D05B5
X-WR-TIMEZONE:Europe/Berlin
BEGIN:VTIMEZONE
TZID:Europe/Berlin
BEGIN:STANDARD
TZNAME:CET
DTSTART:20261025T030000
TZOFFSETFROM:+0200
TZOFFSETTO:+0100
RDATE:20271031T030000
END:STANDARD
BEGIN:DAYLIGHT
TZNAME:CEST
DTSTART:20260329T020000
TZOFFSETFROM:+0100
TZOFFSETTO:+0200
RDATE:20270328T020000
RDATE:20280326T020000
END:DAYLIGHT
END:VTIMEZONE
BEGIN:VEVENT
UID:02a837af-7ebd-4b1e-a2d2-b56180a2221b
DTSTAMP:20260419T130718Z
CATEGORIES:Gemeinde
CLASS:PUBLIC
DESCRIPTION:
DTSTART:20261207T180000Z
DTEND:20261207T200000Z
GEO:00;0
LOCATION:Bürgerhaus der Gemeinde
ORGANIZER:
SEQUENCE:1
SUMMARY:Gemeindevertretersitzung
TRANSP:OPAQUE
URL:https://www.bimoehlen.de/index.php/kalender/gemeindevertretersitzung-14
 /2026-12-07-19-00
END:VEVENT
END:VCALENDAR
