BEGIN:VCALENDAR
VERSION:2.0
PRODID:-//Bimöhlen//NONSGML kigkonsult.se iCalcreator 2.30.10//
CALSCALE:GREGORIAN
METHOD:PUBLISH
UID:bf39bbdf-e049-45ce-8d45-b8b57de79b0d
X-WR-CALNAME:iCagenda
X-WR-CALDESC:Event Management Extension for Joomla!
X-WR-RELCALID:3E26604A-50F4-4449-8B3E-E4F4932D05B5
X-WR-TIMEZONE:Europe/Berlin
BEGIN:VTIMEZONE
TZID:Europe/Berlin
BEGIN:STANDARD
TZNAME:CET
DTSTART:20251026T030000
TZOFFSETFROM:+0200
TZOFFSETTO:+0100
RDATE:20261025T030000
END:STANDARD
BEGIN:DAYLIGHT
TZNAME:CEST
DTSTART:20250330T020000
TZOFFSETFROM:+0100
TZOFFSETTO:+0200
RDATE:20260329T020000
RDATE:20270328T020000
END:DAYLIGHT
END:VTIMEZONE
BEGIN:VEVENT
UID:e47ec4d2-0373-4119-b7d3-11559e8369f2
DTSTAMP:20260419T130820Z
CATEGORIES:Gemeinde
CLASS:PUBLIC
DESCRIPTION:
DTSTART:20251201T180000Z
DTEND:20251201T210000Z
GEO:00;0
LOCATION:Bürgerhaus Bimöhlen
ORGANIZER:
SEQUENCE:1
SUMMARY:Gemeindevertretersitzung
TRANSP:OPAQUE
URL:https://www.bimoehlen.de/index.php/kalender/gemeindevertretersitzung-7/
 2025-12-01-19-00
END:VEVENT
END:VCALENDAR
