BEGIN:VCALENDAR
VERSION:2.0
PRODID:-//Bimöhlen//NONSGML kigkonsult.se iCalcreator 2.30.10//
CALSCALE:GREGORIAN
METHOD:PUBLISH
UID:74ff8714-90c8-4734-9729-d540495494f0
X-WR-CALNAME:iCagenda
X-WR-CALDESC:Event Management Extension for Joomla!
X-WR-RELCALID:3E26604A-50F4-4449-8B3E-E4F4932D05B5
X-WR-TIMEZONE:Europe/Berlin
BEGIN:VTIMEZONE
TZID:Europe/Berlin
BEGIN:STANDARD
TZNAME:CET
DTSTART:20251026T030000
TZOFFSETFROM:+0200
TZOFFSETTO:+0100
RDATE:20261025T030000
END:STANDARD
BEGIN:DAYLIGHT
TZNAME:CEST
DTSTART:20250330T020000
TZOFFSETFROM:+0100
TZOFFSETTO:+0200
RDATE:20260329T020000
RDATE:20270328T020000
END:DAYLIGHT
END:VTIMEZONE
BEGIN:VEVENT
UID:631affda-ff7b-4172-bfa5-a9a38df16d2e
DTSTAMP:20260419T130717Z
CATEGORIES:Gemeinde
CLASS:PUBLIC
DESCRIPTION:
DTSTART:20260118T100000Z
DTEND:20260118T130000Z
GEO:00;0
LOCATION:Bürgerhaus der Gemeinde
ORGANIZER:
SEQUENCE:1
SUMMARY:Neujahrsempfang
TRANSP:OPAQUE
URL:https://www.bimoehlen.de/index.php/kalender/neujahrsempfang/2026-01-18-
 11-00
END:VEVENT
END:VCALENDAR
